BEGIN:VCALENDAR
VERSION:2.0
METHOD:PUBLISH
PRODID:-//SD.NET RIM v1.0//DE
CALSCALE:GREGORIAN
X-WR-CALNAME:SD.NET RIM
X-WR-TIMEZONE:Europe/Berlin
BEGIN:VTIMEZONE
TZID:Europe/Berlin
X-LIC-LOCATION:Europe/Berlin
BEGIN:DAYLIGHT
TZOFFSETFROM:+0100
TZOFFSETTO:+0200
TZNAME:CEST
DTSTART:19700329T020000
RRULE:FREQ=YEARLY;BYMONTH=3;BYDAY=-1SU
END:DAYLIGHT
BEGIN:STANDARD
TZOFFSETFROM:+0200
TZOFFSETTO:+0100
TZNAME:CET
DTSTART:19701025T030000
RRULE:FREQ=YEARLY;BYMONTH=10;BYDAY=-1SU
END:STANDARD
END:VTIMEZONE
BEGIN:VEVENT
DTSTAMP:20210929T093838Z
DTSTART:20210907T150000Z
DTEND:20210907T152000Z
SUMMARY:Betriebsausschuss Verkehrswege und Grünanlagen
DESCRIPTION:Link zur Tagesordnung: https://kreis-herford.ratsinfomanagement.net/tops/?__=UGhVM0hpd2NXNFdFcExjZTYeXMIedBZKmwLYPmcIdqc
UID:20210911018
LOCATION:Kreishaus, 32051 Herford, Sitzungsraum 3.00/3.01
END:VEVENT

BEGIN:VEVENT
DTSTAMP:20210929T093838Z
DTSTART:20210907T153000Z
DTEND:20210907T174000Z
SUMMARY:Ausschuss für Bauen und Ordnung
DESCRIPTION:Link zur Tagesordnung: https://kreis-herford.ratsinfomanagement.net/tops/?__=UGhVM0hpd2NXNFdFcExjZVMlAheA8yzRCqLkWZGE9mg
UID:20210911014
LOCATION:Kreishaus, 32051 Herford, Sitzungsraum 3.00/3.01
END:VEVENT

BEGIN:VEVENT
DTSTAMP:20210929T093838Z
DTSTART:20210909T153000Z
DTEND:20210909T163000Z
SUMMARY:Jugendhilfeausschuss
DESCRIPTION:Link zur Tagesordnung: https://kreis-herford.ratsinfomanagement.net/tops/?__=UGhVM0hpd2NXNFdFcExjZcB1RJ_lQ0kGR6_7DBEcync
UID:20210910976
LOCATION:Kreishaus, 32051 Herford, Sitzungsraum 3.00/3.01
END:VEVENT

BEGIN:VEVENT
DTSTAMP:20210929T093838Z
DTSTART:20210913T150000Z
DTEND:20210913T170000Z
SUMMARY:Integrations- und Gleichstellungsausschuss
DESCRIPTION:Link zur Tagesordnung: https://kreis-herford.ratsinfomanagement.net/tops/?__=UGhVM0hpd2NXNFdFcExjZZPjHZYNe_86f5FVZdF6RhU
UID:20210910907
LOCATION:Kreishaus, 32051 Herford, Sitzungsraum 3.00
END:VEVENT

BEGIN:VEVENT
DTSTAMP:20210929T093838Z
DTSTART:20210914T120000Z
DTEND:20210914T170000Z
SUMMARY:Ausschuss Umwelt und Planung
DESCRIPTION:Link zur Tagesordnung: https://kreis-herford.ratsinfomanagement.net/tops/?__=UGhVM0hpd2NXNFdFcExjZXhqz66ex0Rq_tsThWCPGeI\n\nBemerkung:\nBusfahrt mit Naturschutzbeirat
UID:20210911042
LOCATION:Kreishaus, 32051 Herford, Kreishaus
END:VEVENT

BEGIN:VEVENT
DTSTAMP:20210929T093838Z
DTSTART:20210914T120000Z
DTEND:20210914T170000Z
SUMMARY:Naturschutzbeirat
DESCRIPTION:Link zur Tagesordnung: https://kreis-herford.ratsinfomanagement.net/tops/?__=UGhVM0hpd2NXNFdFcExjZdSnDbTNjpUsBStMRq07W84\n\nBemerkung:\nBusfahrt mit Ausschuss für Umwelt und Planung
UID:20210911023
LOCATION:Kreishaus, 32051 Herford, Kreishaus
END:VEVENT

BEGIN:VEVENT
DTSTAMP:20210929T093838Z
DTSTART:20210915T150000Z
DTEND:20210915T153200Z
SUMMARY:Betriebsausschuss Sozial-Psychiatrische Rehabilitationseinrichtung
DESCRIPTION:Link zur Tagesordnung: https://kreis-herford.ratsinfomanagement.net/tops/?__=UGhVM0hpd2NXNFdFcExjZbN1597zqqBprkXuqFeW1nU
UID:20210911009
LOCATION:Kreishaus, 32051 Herford, Sitzungsraum 3.00/3.01
END:VEVENT

BEGIN:VEVENT
DTSTAMP:20210929T093838Z
DTSTART:20210915T154000Z
DTEND:20210915T173200Z
SUMMARY:Sozial- und Gesundheitsausschuss
DESCRIPTION:Link zur Tagesordnung: https://kreis-herford.ratsinfomanagement.net/tops/?__=UGhVM0hpd2NXNFdFcExjZafJRjpk4S5wI5YL3dbAqow
UID:20210910911
LOCATION:Kreishaus, 32051 Herford, Sitzungsraum 3.00/3.01
END:VEVENT

BEGIN:VEVENT
DTSTAMP:20210929T093838Z
DTSTART:20210916T150000Z
DTEND:20210916T152500Z
SUMMARY:Betriebsausschuss Abfallentsorgungsbetrieb
DESCRIPTION:Link zur Tagesordnung: https://kreis-herford.ratsinfomanagement.net/tops/?__=UGhVM0hpd2NXNFdFcExjZaFyiK_bbtVkNxubzaspLL4
UID:20210911002
LOCATION:Kreishaus, 32051 Herford, Sitzungsraum 3.00
END:VEVENT

BEGIN:VEVENT
DTSTAMP:20210929T093838Z
DTSTART:20210916T152500Z
DTEND:20210916T165500Z
SUMMARY:Ausschuss Umwelt und Planung
DESCRIPTION:Link zur Tagesordnung: https://kreis-herford.ratsinfomanagement.net/tops/?__=UGhVM0hpd2NXNFdFcExjZRXG02Zc9lyNKI9eJjMZEpY
UID:20210910998
LOCATION:Kreishaus, 32051 Herford, Sitzungsraum 3.00
END:VEVENT

BEGIN:VEVENT
DTSTAMP:20210929T093838Z
DTSTART:20210921T130000Z
DTEND:20210921T164000Z
SUMMARY:Naturschutzbeirat
DESCRIPTION:Link zur Tagesordnung: https://kreis-herford.ratsinfomanagement.net/tops/?__=UGhVM0hpd2NXNFdFcExjZYr69Ev9H0fvHLGa91uIbZ0
UID:20210911024
LOCATION:Kreishaus, 32051 Herford, Sitzungsraum 3.00
END:VEVENT

BEGIN:VEVENT
DTSTAMP:20210929T093838Z
DTSTART:20210922T140000Z
DTEND:20210922T150000Z
SUMMARY:Kreisausschuss
DESCRIPTION:Link zur Tagesordnung: https://kreis-herford.ratsinfomanagement.net/tops/?__=UGhVM0hpd2NXNFdFcExjZcGrygHMKJhhx8IKV7cx9qU
UID:20210910880
LOCATION:Kreishaus, 32051 Herford, Sitzungsraum 3.00
END:VEVENT

BEGIN:VEVENT
DTSTAMP:20210929T093838Z
DTSTART:20210929T150000Z
DTEND:20210929T165000Z
SUMMARY:Gesundheitskonferenz
DESCRIPTION:Link zur Tagesordnung: https://kreis-herford.ratsinfomanagement.net/tops/?__=UGhVM0hpd2NXNFdFcExjZVkc9BkgiGl5pDYOYQ6y1RY
UID:20210911041
LOCATION:Kreishaus, 32051 Herford, Sitzungsraum 3.00
END:VEVENT

BEGIN:VEVENT
DTSTAMP:20210929T093838Z
DTSTART:20210930T140000Z
DTEND:20210930T150000Z
SUMMARY:Kreiswahlausschuss zur Bundestagswahl 2021
DESCRIPTION:Link zur Tagesordnung: https://kreis-herford.ratsinfomanagement.net/tops/?__=UGhVM0hpd2NXNFdFcExjZfrp2qensatrAlzbZXJJTds
UID:20210911083
LOCATION:Kreishaus, 32051 Herford, Sitzungsraum 3.00/3.01
END:VEVENT

BEGIN:VEVENT
DTSTAMP:20210929T093838Z
DTSTART:20211001T140000Z
DTEND:20211001T160000Z
SUMMARY:Kreistag
DESCRIPTION:Link zur Tagesordnung: https://kreis-herford.ratsinfomanagement.net/tops/?__=UGhVM0hpd2NXNFdFcExjZZzwRPlbrT69Zktn9VBmJmQ
UID:20211010864
LOCATION:Kreishaus, 32051 Herford, Sitzungsraum 3.00
END:VEVENT

BEGIN:VEVENT
DTSTAMP:20210929T093838Z
DTSTART:20211004T150000Z
DTEND:20211004T170000Z
SUMMARY:Schul- und Kulturausschuss
DESCRIPTION:Link zur Tagesordnung: https://kreis-herford.ratsinfomanagement.net/tops/?__=UGhVM0hpd2NXNFdFcExjZbM_AvO5JUREY2IZPoBw6NM
UID:20211010899
LOCATION:Kreishaus, 32051 Herford, Sitzungsraum 3.00/3.01
END:VEVENT

BEGIN:VEVENT
DTSTAMP:20210929T093838Z
DTSTART:20211026T150000Z
DTEND:20211026T155500Z
SUMMARY:Betriebsausschuss Verkehrswege und Grünanlagen
DESCRIPTION:Link zur Tagesordnung: https://kreis-herford.ratsinfomanagement.net/tops/?__=UGhVM0hpd2NXNFdFcExjZRTyOBWuHtX80pbJ97uxJ6s
UID:20211011033
LOCATION:Kreishaus, 32051 Herford, Sitzungsraum 3.00/3.01
END:VEVENT

BEGIN:VEVENT
DTSTAMP:20210929T093838Z
DTSTART:20211026T160000Z
DTEND:20211026T170000Z
SUMMARY:Ausschuss für Bauen und Ordnung
DESCRIPTION:Link zur Tagesordnung: https://kreis-herford.ratsinfomanagement.net/tops/?__=UGhVM0hpd2NXNFdFcExjZQ_FRXrbOMxG2A8f1uORbng
UID:20211011034
LOCATION:Kreishaus, 32051 Herford, Sitzungsraum 3.00/3.01
END:VEVENT

BEGIN:VEVENT
DTSTAMP:20210929T093838Z
DTSTART:20211029T140000Z
DTEND:20211029T160000Z
SUMMARY:Kreistag
DESCRIPTION:Link zur Tagesordnung: https://kreis-herford.ratsinfomanagement.net/tops/?__=UGhVM0hpd2NXNFdFcExjZaT5S8dUFgleF8jaNGmNNgw
UID:20211011082
LOCATION:Kreishaus, 32051 Herford, Sitzungsraum 3.00/3.01
END:VEVENT

BEGIN:VEVENT
DTSTAMP:20210929T093838Z
DTSTART:20211104T160000Z
DTEND:20211104T170000Z
SUMMARY:Sportausschuss
DESCRIPTION:Link zur Tagesordnung: https://kreis-herford.ratsinfomanagement.net/tops/?__=UGhVM0hpd2NXNFdFcExjZaMMZCe7K3HgEpTuI4Fz02k
UID:20211111040
LOCATION:Kreishaus, 32051 Herford, Sitzungsraum 3.00
END:VEVENT

BEGIN:VEVENT
DTSTAMP:20210929T093838Z
DTSTART:20211110T150000Z
DTEND:20211110T160000Z
SUMMARY:Kreisausschuss
DESCRIPTION:Link zur Tagesordnung: https://kreis-herford.ratsinfomanagement.net/tops/?__=UGhVM0hpd2NXNFdFcExjZR-U1gC0gdGlnVxJWhB_UvU
UID:20211110881
LOCATION:Kreishaus, 32051 Herford, Sitzungsraum 3.00/3.01
END:VEVENT

BEGIN:VEVENT
DTSTAMP:20210929T093838Z
DTSTART:20211115T160000Z
DTEND:20211115T180000Z
SUMMARY:Behindertenbeirat
DESCRIPTION:Link zur Tagesordnung: https://kreis-herford.ratsinfomanagement.net/tops/?__=UGhVM0hpd2NXNFdFcExjZbblOpeCyXs0x1PonCF-XWc
UID:20211111006
LOCATION:Kreishaus, 32051 Herford, Sitzungsraum 3.00/3.01
END:VEVENT

BEGIN:VEVENT
DTSTAMP:20210929T093838Z
DTSTART:20211116T160000Z
DTEND:20211116T180000Z
SUMMARY:Integrations- und Gleichstellungsausschuss
DESCRIPTION:Link zur Tagesordnung: https://kreis-herford.ratsinfomanagement.net/tops/?__=UGhVM0hpd2NXNFdFcExjZRhggp3betSBHL_Bz-sezKM
UID:20211110908
LOCATION:Kreishaus, 32051 Herford, Sitzungsraum 3.00
END:VEVENT

BEGIN:VEVENT
DTSTAMP:20210929T093838Z
DTSTART:20211117T160000Z
DTEND:20211117T180000Z
SUMMARY:Kommunale Konferenz Alter und Pflege
DESCRIPTION:Link zur Tagesordnung: https://kreis-herford.ratsinfomanagement.net/tops/?__=UGhVM0hpd2NXNFdFcExjZWGvCLrXpJfeGEblK9UkVEY
UID:20211110904
LOCATION:Kreishaus, 32051 Herford, Sitzungsraum 3.01/3.02
END:VEVENT

BEGIN:VEVENT
DTSTAMP:20210929T093838Z
DTSTART:20211122T160000Z
DTEND:20211122T180000Z
SUMMARY:Schul- und Kulturausschuss
DESCRIPTION:Link zur Tagesordnung: https://kreis-herford.ratsinfomanagement.net/tops/?__=UGhVM0hpd2NXNFdFcExjZe15YQRIhvKjzG8aGB33kyQ
UID:20211110900
LOCATION:Kreishaus, 32051 Herford, Sitzungsraum 3.00/3.01
END:VEVENT

BEGIN:VEVENT
DTSTAMP:20210929T093838Z
DTSTART:20211123T140000Z
DTEND:20211123T164000Z
SUMMARY:Naturschutzbeirat
DESCRIPTION:Link zur Tagesordnung: https://kreis-herford.ratsinfomanagement.net/tops/?__=UGhVM0hpd2NXNFdFcExjZYb0ZpYH13GNDeJu_pdxoMY
UID:20211111025
LOCATION:Kreishaus, 32051 Herford, Sitzungsraum 3.00/3.01
END:VEVENT

BEGIN:VEVENT
DTSTAMP:20210929T093838Z
DTSTART:20211124T160000Z
DTEND:20211124T170000Z
SUMMARY:Betriebsausschuss Sozial-Psychiatrische Rehabilitationseinrichtung
DESCRIPTION:Link zur Tagesordnung: https://kreis-herford.ratsinfomanagement.net/tops/?__=UGhVM0hpd2NXNFdFcExjZVbINIUmW6rRuOyi3Eoyv_g
UID:20211111010
LOCATION:Kreishaus, 32051 Herford, Sitzungsraum 3.00/3.01
END:VEVENT

BEGIN:VEVENT
DTSTAMP:20210929T093838Z
DTSTART:20211124T170000Z
DTEND:20211124T180000Z
SUMMARY:Sozial- und Gesundheitsausschuss
DESCRIPTION:Link zur Tagesordnung: https://kreis-herford.ratsinfomanagement.net/tops/?__=UGhVM0hpd2NXNFdFcExjZdY0wMylJ2jUqaL2SGHsNOE
UID:20211110912
LOCATION:Kreishaus, 32051 Herford, Sitzungsraum 3.00/3.01
END:VEVENT

BEGIN:VEVENT
DTSTAMP:20210929T093838Z
DTSTART:20211125T160000Z
DTEND:20211125T163500Z
SUMMARY:Betriebsausschuss Abfallentsorgungsbetrieb
DESCRIPTION:Link zur Tagesordnung: https://kreis-herford.ratsinfomanagement.net/tops/?__=UGhVM0hpd2NXNFdFcExjZSyvTnX4E--qpTdyIu6D0_Y
UID:20211111003
LOCATION:Kreishaus, 32051 Herford, Sitzungsraum 3.00
END:VEVENT

BEGIN:VEVENT
DTSTAMP:20210929T093838Z
DTSTART:20211125T164000Z
DTEND:20211125T180000Z
SUMMARY:Ausschuss Umwelt und Planung
DESCRIPTION:Link zur Tagesordnung: https://kreis-herford.ratsinfomanagement.net/tops/?__=UGhVM0hpd2NXNFdFcExjZY0JNFeJCQAKxm6tGJP10qI
UID:20211110999
LOCATION:Kreishaus, 32051 Herford, Sitzungsraum 3.00
END:VEVENT

END:VCALENDAR